Workbook

Sheet 応募用紙
B1: （公財）日本自動車教育振興財団 行 | V1: （1/3）
B2: ※応募用紙作成の上Ｅmailに添付してご提出ください
B3: 〔提出先 Email：gijutu@jaef.or.jp〕
B5: 令和8年度（2026年度）
B6: 自動車教材 有効活用表彰制度 応募用紙
B7: ★グレー色のセルを入力してください
B8: 申込日
B9: 学校名
B10: 代表者名(漢字） | N10: 代表者名（フリガナ）
B11: 所在地 | C11: 郵便番号
C12: 住所
B13: 連絡先 （応募担当者） | C13: 所属 | N13: 担当者名（漢字）
C14: 電話 | N14: 担当者名（フリガナ）
B15: メールアドレス
B16: ●応募対象校： | C16: 令和4~6年度に当財団から教材提供を受けた高等学校
B17: ●対象教材（＝小・中学生を対象とした活動で使用した教材）： 財団から提供された教材（提供時期に制限なし）
B18: 教材名
B19: ①どのようなイベントで活用しましたか
B21: ②イベント開催までのプロセスを教えてください
B23: ③苦労したことを教えてください
B25: ④工夫したことを教えてください
V27: （2/3）
B28: ⑤活用した小・中学生の人数、学校数
B30: ⑥活用した小・中学生の反応を教えてください
B32: ⑦高校生の活躍と意識の変化について教えてください
B34: ➇メディアに取り上げられましたか（新聞・TV・SNSなど具体的に）
B36: ⑨イベントの効果・手ごたえ
B38: ⑩写真の有無（写真があれば 別紙：写真添付シートへ貼り付けてください）
B40: ⑪動画の有無（YouTube動画であればURLを入力ください、その他添付出来なければ別途財団まで相談ください）
B42: ⑫自由欄（①～⑪で表現できないこと、財団への意見・要望など自由に記入ください）
B45: ●お問い合わせ先
B46: （公財）日本自動車教育振興財団・技術教育担当 山本（Ｅmail：yamamoto@jaef.or.jp ）
B47: TEL03-5733-3841、携帯050-5471-9475

Sheet 写真添付シート
K1: （3/3）
G2: 日 付
B3: ●写真添付シート | G3: 学校名

Sheet 非表示（データ一覧）
F3: 所在地 | I3: 連絡先 （応募担当者）
B4: 申込日 | C4: 学校名 | D4: 代表者名(漢字） | E4: 代表者名（フリガナ） | F4: 郵便番号 | G4: 住所 | H4: 電話 | I4: 所属 | J4: 担当者名（漢字） | K4: 担当者名（カタカナ） | L4: メールアドレス | M4: 教材 | N4: ①どのようなイベントで活用しましたか | O4: ②イベント開催までのプロセスを教えてください | P4: ③苦労したことを教えてください | Q4: ④工夫したことを教えてください | R4: ⑤活用した小・中学生の人数、学校数 | S4: ⑥活用した小・中学生の反応を教えてください | T4: ⑦高校生の活躍と意識の変化について教えてください | U4: ➇メディアに取り上げられましたか（新聞・TV・SNSなど具体的に） | V4: ⑨イベントの効果・手ごたえ | W4: ⑩写真を添付してください | X4: ⑪動画の有無（YouTube動画であればURLを入力ください、その他添付出来なければ別途財団まで相談ください） | Y4: ⑫自由欄
B5: =応募用紙!C8 -> 0 | C5: =応募用紙!C9 -> 0 | D5: =応募用紙!C10 -> 0 | E5: =応募用紙!R10 -> 0 | F5: =応募用紙!F11 -> 0 | G5: =応募用紙!F12 -> 0 | H5: =応募用紙!F14 -> 0 | I5: =応募用紙!F13 -> 0 | J5: =応募用紙!R13 -> 0 | K5: =応募用紙!R14 -> 0 | L5: =応募用紙!C15 -> 0 | M5: =応募用紙!C18 -> 0 | N5: =応募用紙!B20 -> 0 | O5: =応募用紙!B22 -> 0 | P5: =応募用紙!B24 -> 0 | Q5: =応募用紙!B26 -> 0 | R5: =応募用紙!B29 -> 0 | S5: =応募用紙!B31 -> 0 | T5: =応募用紙!B33 -> 0 | U5: =応募用紙!B35 -> 0 | V5: =応募用紙!B37 -> 0 | W5: =応募用紙!B39 -> 0 | X5: =応募用紙!B41 -> 0 | Y5: =応募用紙!B43 -> 0
